BEGIN:VCALENDAR
VERSION:2.0
PRODID:-//โรงพยาบาลวชิระภูเก็ต | กระทรวงสาธารณสุข - ECPv6.15.20//NONSGML v1.0//EN
CALSCALE:GREGORIAN
METHOD:PUBLISH
X-ORIGINAL-URL:https://www.vachiraphuket.go.th
X-WR-CALDESC:Events for โรงพยาบาลวชิระภูเก็ต | กระทรวงสาธารณสุข
REFRESH-INTERVAL;VALUE=DURATION:PT1H
X-Robots-Tag:noindex
X-PUBLISHED-TTL:PT1H
BEGIN:VTIMEZONE
TZID:Asia/Bangkok
BEGIN:STANDARD
TZOFFSETFROM:+0700
TZOFFSETTO:+0700
TZNAME:+07
DTSTART:20240101T000000
END:STANDARD
END:VTIMEZONE
BEGIN:VEVENT
DTSTART;TZID=Asia/Bangkok:20250806T080000
DTEND;TZID=Asia/Bangkok:20250806T170000
DTSTAMP:20260423T185724
CREATED:20250806T041219Z
LAST-MODIFIED:20250806T041234Z
UID:77641-1754467200-1754499600@www.vachiraphuket.go.th
SUMMARY:งานประชุมวิชาการ 3rd Annual MSK Intervention
DESCRIPTION:งานประชุมวิชาการ 3rd Annual MSK Intervention ✨📢\n🗓 วันที่ 7-8 สิงหาคม 2568\n🏥 ห้องประชุมราชพฤกษ์ ชั้น 6 ตึกคุณพุ่ม โรงพยาบาลวชิระภูเก็ต \nขอเชิญทุกท่านร่วมเป็นส่วนหนึ่งของการประชุมวิชาการ 3rd Annual MSK Intervention! พบกับ workshop และ Live case สุดเข้มข้น ที่จะเปิดประสบการณ์การเรียนรู้จากทีมสหสาขาวิชาชีพ:\n🦵 เวชศาสตร์ฟื้นฟู (Rehabilitation)\n🦴 กระดูกและข้อ (Orthopedics)\n🩺 รังสีร่วมรักษา (Interventional Radiology)\n🚑 วิสัญญีระงับปวด (Anesthesia for pain management) \n 
URL:https://www.vachiraphuket.go.th/event/3rd-annual-msk-intervention/
LOCATION:ห้องประชุมราชพฤกษ์ ชั้น 6
CATEGORIES:ประชุมวิชาการ/สัมมนา
ATTACH;FMTTYPE=image/jpeg:https://www.vachiraphuket.go.th/wp-content/uploads/2025/08/vachira-2025-08-06_11-09-38_126855.jpg
END:VEVENT
BEGIN:VEVENT
DTSTART;TZID=Asia/Bangkok:20250924T100000
DTEND;TZID=Asia/Bangkok:20250924T160000
DTSTAMP:20260423T185724
CREATED:20250908T065759Z
LAST-MODIFIED:20250908T070112Z
UID:78386-1758708000-1758729600@www.vachiraphuket.go.th
SUMMARY:ประชุมวิชาการ: เมื่อเซลล์คุณรักษาโรคคุณได้ (Pioneering the Future od Medicine:ATMP)
DESCRIPTION:  \nลิงค์ลงทะเบียน\n\nแพทย์\nสหวิชาชีพ\nBack Office\n\n 
URL:https://www.vachiraphuket.go.th/event/pioneering-the-future-od-medicineatmp/
LOCATION:ห้องประชุมราชพฤกษ์ ชั้น 6
CATEGORIES:ประชุมวิชาการ/สัมมนา
ATTACH;FMTTYPE=image/jpeg:https://www.vachiraphuket.go.th/wp-content/uploads/2025/09/vachira-2025-09-08_13-57-03_073098.jpg
ORGANIZER;CN="%E0%B9%82%E0%B8%A3%E0%B8%87%E0%B8%9E%E0%B8%A2%E0%B8%B2%E0%B8%9A%E0%B8%B2%E0%B8%A5%E0%B8%A7%E0%B8%8A%E0%B8%B4%E0%B8%A3%E0%B8%B0%E0%B8%A0%E0%B8%B9%E0%B9%80%E0%B8%81%E0%B9%87%E0%B8%95 (Vachira Phuket Hospital)":MAILTO:vachiraphuket.h@mophegp.mail.go.th
END:VEVENT
END:VCALENDAR