BEGIN:VCALENDAR
VERSION:2.0
PRODID:-//โรงพยาบาลวชิระภูเก็ต | กระทรวงสาธารณสุข - ECPv6.15.20//NONSGML v1.0//EN
CALSCALE:GREGORIAN
METHOD:PUBLISH
X-WR-CALNAME:โรงพยาบาลวชิระภูเก็ต | กระทรวงสาธารณสุข
X-ORIGINAL-URL:https://www.vachiraphuket.go.th
X-WR-CALDESC:Events for โรงพยาบาลวชิระภูเก็ต | กระทรวงสาธารณสุข
REFRESH-INTERVAL;VALUE=DURATION:PT1H
X-Robots-Tag:noindex
X-PUBLISHED-TTL:PT1H
BEGIN:VTIMEZONE
TZID:Asia/Bangkok
BEGIN:STANDARD
TZOFFSETFROM:+0700
TZOFFSETTO:+0700
TZNAME:+07
DTSTART:20230101T000000
END:STANDARD
END:VTIMEZONE
BEGIN:VEVENT
DTSTART;TZID=Asia/Bangkok:20241107T083000
DTEND;TZID=Asia/Bangkok:20241108T163000
DTSTAMP:20260423T085812
CREATED:20241106T154911Z
LAST-MODIFIED:20241106T154911Z
UID:67496-1730968200-1731083400@www.vachiraphuket.go.th
SUMMARY:ประชุมยกระดับการดูแลมะเร็งนรีเวชโดยการผ่าตัดผ่านกล้อง
DESCRIPTION:
URL:https://www.vachiraphuket.go.th/event/%e0%b8%9b%e0%b8%a3%e0%b8%b0%e0%b8%8a%e0%b8%b8%e0%b8%a1%e0%b8%a2%e0%b8%81%e0%b8%a3%e0%b8%b0%e0%b8%94%e0%b8%b1%e0%b8%9a%e0%b8%81%e0%b8%b2%e0%b8%a3%e0%b8%94%e0%b8%b9%e0%b9%81%e0%b8%a5%e0%b8%a1%e0%b8%b0%e0%b9%80%e0%b8%a3%e0%b9%87%e0%b8%87%e0%b8%99%e0%b8%a3%e0%b8%b5%e0%b9%80%e0%b8%a7%e0%b8%8a%e0%b9%82%e0%b8%94%e0%b8%a2%e0%b8%81%e0%b8%b2%e0%b8%a3%e0%b8%9c%e0%b9%88%e0%b8%b2%e0%b8%95%e0%b8%b1%e0%b8%94%e0%b8%9c%e0%b9%88%e0%b8%b2%e0%b8%99%e0%b8%81%e0%b8%a5%e0%b9%89%e0%b8%ad%e0%b8%87/
LOCATION:353 Yaowarat Rd\, 353 Yaowarat Rd. T.Taladyai \, Muang\, Phuket\, Phuket\, 83000\, Thailand
CATEGORIES:ประชุมวิชาการ/สัมมนา
ATTACH;FMTTYPE=image/jpeg:https://www.vachiraphuket.go.th/wp-content/uploads/2024/11/vachira-2024-11-06_22-47-10_834736.jpg
ORGANIZER;CN="%E0%B9%82%E0%B8%A3%E0%B8%87%E0%B8%9E%E0%B8%A2%E0%B8%B2%E0%B8%9A%E0%B8%B2%E0%B8%A5%E0%B8%A7%E0%B8%8A%E0%B8%B4%E0%B8%A3%E0%B8%B0%E0%B8%A0%E0%B8%B9%E0%B9%80%E0%B8%81%E0%B9%87%E0%B8%95 (Vachira Phuket Hospital)":MAILTO:vachiraphuket.h@mophegp.mail.go.th
END:VEVENT
END:VCALENDAR