BEGIN:VCALENDAR
VERSION:2.0
PRODID:-//โรงพยาบาลวชิระภูเก็ต | กระทรวงสาธารณสุข - ECPv6.15.20//NONSGML v1.0//EN
CALSCALE:GREGORIAN
METHOD:PUBLISH
X-ORIGINAL-URL:https://www.vachiraphuket.go.th
X-WR-CALDESC:Events for โรงพยาบาลวชิระภูเก็ต | กระทรวงสาธารณสุข
REFRESH-INTERVAL;VALUE=DURATION:PT1H
X-Robots-Tag:noindex
X-PUBLISHED-TTL:PT1H
BEGIN:VTIMEZONE
TZID:Asia/Bangkok
BEGIN:STANDARD
TZOFFSETFROM:+0700
TZOFFSETTO:+0700
TZNAME:+07
DTSTART:20230101T000000
END:STANDARD
END:VTIMEZONE
BEGIN:VEVENT
DTSTART;TZID=Asia/Bangkok:20241018T080000
DTEND;TZID=Asia/Bangkok:20241018T150000
DTSTAMP:20260423T102702
CREATED:20241011T073932Z
LAST-MODIFIED:20241011T074738Z
UID:66639-1729238400-1729263600@www.vachiraphuket.go.th
SUMMARY:งานประชุมวิชาการ “ภูมิแพ้และภูมิคุ้มกันสัญจร”
DESCRIPTION:งานประชุมวิชาการ “ภูมิแพ้และภูมิคุ้มกันสัญจร” ณ ห้องประชุมราชพฤกษ์ ชั้น 6 อาคารบ้านคุณพุ่ม รพ.วชิระภูเก็ต วันศุกร์ที่ 18 ตุลาคม 2567\nสนใจลงทะเบียนได้ที่ google form หรือ scan QR code \nhttps://forms.gle/46cH96HTQQHCRa9V8
URL:https://www.vachiraphuket.go.th/event/%e0%b8%87%e0%b8%b2%e0%b8%99%e0%b8%9b%e0%b8%a3%e0%b8%b0%e0%b8%8a%e0%b8%b8%e0%b8%a1%e0%b8%a7%e0%b8%b4%e0%b8%8a%e0%b8%b2%e0%b8%81%e0%b8%b2%e0%b8%a3-%e0%b8%a0%e0%b8%b9%e0%b8%a1%e0%b8%b4%e0%b9%81%e0%b8%9e%e0%b9%89%e0%b9%81%e0%b8%a5%e0%b8%b0%e0%b8%a0%e0%b8%b9%e0%b8%a1%e0%b8%b4%e0%b8%84%e0%b8%b8%e0%b9%89%e0%b8%a1%e0%b8%81%e0%b8%b1%e0%b8%99%e0%b8%aa%e0%b8%b1%e0%b8%8d%e0%b8%88%e0%b8%a3/
LOCATION:353 Yaowarat Rd\, 353 Yaowarat Rd. T.Taladyai \, Muang\, Phuket\, Phuket\, 83000\, Thailand
CATEGORIES:ประชุมวิชาการ/สัมมนา
ATTACH;FMTTYPE=image/jpeg:https://www.vachiraphuket.go.th/wp-content/uploads/2024/10/vachira-2024-10-11_14-40-36_955563.jpg
ORGANIZER;CN="%E0%B9%82%E0%B8%A3%E0%B8%87%E0%B8%9E%E0%B8%A2%E0%B8%B2%E0%B8%9A%E0%B8%B2%E0%B8%A5%E0%B8%A7%E0%B8%8A%E0%B8%B4%E0%B8%A3%E0%B8%B0%E0%B8%A0%E0%B8%B9%E0%B9%80%E0%B8%81%E0%B9%87%E0%B8%95 (Vachira Phuket Hospital)":MAILTO:vachiraphuket.h@mophegp.mail.go.th
END:VEVENT
END:VCALENDAR