BEGIN:VCALENDAR
VERSION:2.0
PRODID:-//โรงพยาบาลวชิระภูเก็ต | กระทรวงสาธารณสุข - ECPv6.15.20//NONSGML v1.0//EN
CALSCALE:GREGORIAN
METHOD:PUBLISH
X-ORIGINAL-URL:https://www.vachiraphuket.go.th
X-WR-CALDESC:Events for โรงพยาบาลวชิระภูเก็ต | กระทรวงสาธารณสุข
REFRESH-INTERVAL;VALUE=DURATION:PT1H
X-Robots-Tag:noindex
X-PUBLISHED-TTL:PT1H
BEGIN:VTIMEZONE
TZID:Asia/Bangkok
BEGIN:STANDARD
TZOFFSETFROM:+0700
TZOFFSETTO:+0700
TZNAME:+07
DTSTART:20230101T000000
END:STANDARD
END:VTIMEZONE
BEGIN:VEVENT
DTSTART;TZID=Asia/Bangkok:20241015T080000
DTEND;TZID=Asia/Bangkok:20241015T160000
DTSTAMP:20260423T102800
CREATED:20241011T074652Z
LAST-MODIFIED:20241011T074652Z
UID:66645-1728979200-1729008000@www.vachiraphuket.go.th
SUMMARY:วันล้างมือโลก - Global Handwashing Day
DESCRIPTION:วันล้างมือโลก – Global Handwashing Day
URL:https://www.vachiraphuket.go.th/event/%e0%b8%a7%e0%b8%b1%e0%b8%99%e0%b8%a5%e0%b9%89%e0%b8%b2%e0%b8%87%e0%b8%a1%e0%b8%b7%e0%b8%ad%e0%b9%82%e0%b8%a5%e0%b8%81-global-handwashing-day/
CATEGORIES:ประชุมวิชาการ/สัมมนา
ATTACH;FMTTYPE=image/jpeg:https://www.vachiraphuket.go.th/wp-content/uploads/2024/10/vachira-2024-10-11_14-46-07_882019.jpg
ORGANIZER;CN="%E0%B9%82%E0%B8%A3%E0%B8%87%E0%B8%9E%E0%B8%A2%E0%B8%B2%E0%B8%9A%E0%B8%B2%E0%B8%A5%E0%B8%A7%E0%B8%8A%E0%B8%B4%E0%B8%A3%E0%B8%B0%E0%B8%A0%E0%B8%B9%E0%B9%80%E0%B8%81%E0%B9%87%E0%B8%95 (Vachira Phuket Hospital)":MAILTO:vachiraphuket.h@mophegp.mail.go.th
END:VEVENT
END:VCALENDAR