BEGIN:VCALENDAR
VERSION:2.0
PRODID:-//โรงพยาบาลวชิระภูเก็ต | กระทรวงสาธารณสุข - ECPv6.15.20//NONSGML v1.0//EN
CALSCALE:GREGORIAN
METHOD:PUBLISH
X-WR-CALNAME:โรงพยาบาลวชิระภูเก็ต | กระทรวงสาธารณสุข
X-ORIGINAL-URL:https://www.vachiraphuket.go.th
X-WR-CALDESC:Events for โรงพยาบาลวชิระภูเก็ต | กระทรวงสาธารณสุข
REFRESH-INTERVAL;VALUE=DURATION:PT1H
X-Robots-Tag:noindex
X-PUBLISHED-TTL:PT1H
BEGIN:VTIMEZONE
TZID:Asia/Bangkok
BEGIN:STANDARD
TZOFFSETFROM:+0700
TZOFFSETTO:+0700
TZNAME:+07
DTSTART:20230101T000000
END:STANDARD
END:VTIMEZONE
BEGIN:VEVENT
DTSTART;TZID=Asia/Bangkok:20240924T100000
DTEND;TZID=Asia/Bangkok:20240924T160000
DTSTAMP:20260423T114820
CREATED:20240913T091014Z
LAST-MODIFIED:20240913T091123Z
UID:66151-1727172000-1727193600@www.vachiraphuket.go.th
SUMMARY:ประชุมวิชาการวันมหิดล โรงพยาบาลวชิระภูเก็ต ประจำปี 2567
DESCRIPTION:ประชุมวิชาการวันมหิดล โรงพยาบาลวชิระภูเก็ต ประจำปี 2567 \nเนื่องในโอกาสวันคล้ายวันสวรรคตของสมเด็จพระมหิตลาธิเบศร อดุลยเดชวิกรมพระบรมราชชนก “พระบิดาแห่งการแพทย์แผนปัจจุบันของไทย” ซึ่งตรงกับวันที่ 25 กันยายนของทุกปี องค์กรแพทย์ โรงพยาบาลวชิระภูเก็ต จึงได้จัดการประชุมวิชาการวันมหิดล ประจำปี 2567 ขึ้น \nรายละเอียดการจัดงาน: \n\nวันที่: วันอังคารที่ 24 กันยายน 2567\nเวลา: 10.00 – 16.30 น.\nสถานที่: ห้องประชุมราชพฤกษ์ ชั้น 6 อาคารบ้านคุณพุ่ม โรงพยาบาลวชิระภูเก็ต\n\nผู้สนใจสามารถลงทะเบียนเข้าร่วมประชุมวิชาการทาง: \n\nลงทะเบียนออนไลน์ที่: https://forms.gle/tTnhVpEsjygbAbcw\n\nบริการพิเศษ\n\nบริการทดสอบสารก่อภูมิแพ้ไรฝุ่น ด้วยการสะกิดผิวหนัง \n\nผู้สนใจสามารถลงทะเบียนเข้าร่วมกิจกรรมบริการทดสอบสารก่อภูมิแพ้ไรฝุ่น ด้วยการสะกิดผิวหนัง \nhttps://forms.gle/J2Mv8U6eB3FceCiJ9 \nการประชุมวิชาการครั้งนี้จัดขึ้นเพื่อเป็นการรำลึกถึงพระมหากรุณาธิคุณและเผยแพร่พระเกียรติคุณของสมเด็จพระมหิตลาธิเบศรฯ ที่ทรงมีต่อวงการแพทย์และสาธารณสุขไทย อีกทั้งยังเป็นโอกาสอันดีในการแลกเปลี่ยนความรู้ทางวิชาการระหว่างบุคลากรทางการแพทย์ \nจึงขอเชิญชวนแพทย์ บุคลากรทางการแพทย์ และผู้สนใจทั่วไป เข้าร่วมการประชุมวิชาการในครั้งนี้ \nติดต่อสอบถามรายละเอียดได้ที่  สำนักงานองค์กรแพทย์ โรงพยาบาลวชิระภูเก็ต  อาคารบ้านคุณพุ่ม ชั้น 6 หรือติดต่อ โทร 076-361234 ต่อ 6623
URL:https://www.vachiraphuket.go.th/event/%e0%b8%9b%e0%b8%a3%e0%b8%b0%e0%b8%8a%e0%b8%b8%e0%b8%a1%e0%b8%a7%e0%b8%b4%e0%b8%8a%e0%b8%b2%e0%b8%81%e0%b8%b2%e0%b8%a3%e0%b8%a7%e0%b8%b1%e0%b8%99%e0%b8%a1%e0%b8%ab%e0%b8%b4%e0%b8%94%e0%b8%a5-%e0%b9%82%e0%b8%a3%e0%b8%87%e0%b8%9e%e0%b8%a2%e0%b8%b2%e0%b8%9a%e0%b8%b2%e0%b8%a5%e0%b8%a7%e0%b8%8a%e0%b8%b4%e0%b8%a3%e0%b8%b0%e0%b8%a0%e0%b8%b9%e0%b9%80%e0%b8%81%e0%b9%87%e0%b8%95-%e0%b8%9b%e0%b8%a3%e0%b8%b0%e0%b8%88%e0%b8%b3%e0%b8%9b%e0%b8%b5-2567/
LOCATION:353 Yaowarat Rd\, 353 Yaowarat Rd. T.Taladyai \, Muang\, Phuket\, Phuket\, 83000\, Thailand
CATEGORIES:ประชุมวิชาการ/สัมมนา
ATTACH;FMTTYPE=image/jpeg:https://www.vachiraphuket.go.th/wp-content/uploads/2024/09/vachira-2024-09-13_16-09-10_043630.jpg
ORGANIZER;CN="%E0%B9%82%E0%B8%A3%E0%B8%87%E0%B8%9E%E0%B8%A2%E0%B8%B2%E0%B8%9A%E0%B8%B2%E0%B8%A5%E0%B8%A7%E0%B8%8A%E0%B8%B4%E0%B8%A3%E0%B8%B0%E0%B8%A0%E0%B8%B9%E0%B9%80%E0%B8%81%E0%B9%87%E0%B8%95 (Vachira Phuket Hospital)":MAILTO:vachiraphuket.h@mophegp.mail.go.th
END:VEVENT
END:VCALENDAR