BEGIN:VCALENDAR
VERSION:2.0
PRODID:-//โรงพยาบาลวชิระภูเก็ต | กระทรวงสาธารณสุข - ECPv6.15.20//NONSGML v1.0//EN
CALSCALE:GREGORIAN
METHOD:PUBLISH
X-WR-CALNAME:โรงพยาบาลวชิระภูเก็ต | กระทรวงสาธารณสุข
X-ORIGINAL-URL:https://www.vachiraphuket.go.th
X-WR-CALDESC:Events for โรงพยาบาลวชิระภูเก็ต | กระทรวงสาธารณสุข
REFRESH-INTERVAL;VALUE=DURATION:PT1H
X-Robots-Tag:noindex
X-PUBLISHED-TTL:PT1H
BEGIN:VTIMEZONE
TZID:Asia/Bangkok
BEGIN:STANDARD
TZOFFSETFROM:+0700
TZOFFSETTO:+0700
TZNAME:+07
DTSTART:20230101T000000
END:STANDARD
END:VTIMEZONE
BEGIN:VEVENT
DTSTART;VALUE=DATE:20240909
DTEND;VALUE=DATE:20240912
DTSTAMP:20260423T115957
CREATED:20240704T012715Z
LAST-MODIFIED:20240907T090502Z
UID:64757-1725840000-1726099199@www.vachiraphuket.go.th
SUMMARY:งานประชุมวิชาการแพทยศาสตรศึกษา โครงการผลิตแพทย์เพื่อชาวชนบท #22
DESCRIPTION:งานประชุมวิชาการแพทยศาสตรศึกษา โครงการผลิตแพทย์เพื่อชาวชนบท ครั้งที่ 22 \nRural Medical Education for Sustainable Healthcare \n9 – 11 กันยายน 2567 \nณ โรงแรมรอยัลภูเก็ตชิตื้ อ.เมือง จ.ภูเก็ต \nWebsite:https://www.vachiraphuket.go.th/cpird2024/ \n1.แพทย์ บุคลากร ที่สนใจลงทะเบียน \n\nตั้งแต่วันนี้ – 8 สิงหาคม 2567 ท่านละ 3\,000 บาท\nตั้งแต่วันที่ 9 – 30 สิงหาคม 2567 ท่านละ 3\,500 บาท\n\n\n2.นักศึกษาแพทย์ ที่สนใจลงทะเบียน \n\nตั้งแต่วันนี้ – 8 สิงหาคม 2567 ท่านละ 1\,500 บาท\nตั้งแต่วันที่ 9 – 30 สิงหาคม 2567 ท่านละ 2\,000 บาท\n\nสามารถลงทะเบียนและจ่ายชำระเงินตั้งแต่วันนี้ถึงวันที่ 30 สิงหาคม 2567 \nhttps://www.vachiraphuket.go.th/cpird2024/
URL:https://www.vachiraphuket.go.th/event/rural-medical-education-for-sustainable-healthcare/
LOCATION:Royal Phuket City Hotel\, 154 Phangnga Rd\, Tambon Talat Yai\, Phuket\, Phuket\, 83000\, Thailand
CATEGORIES:ประชุมวิชาการ/สัมมนา
ATTACH;FMTTYPE=image/png:https://www.vachiraphuket.go.th/wp-content/uploads/2024/07/vachira-2024-07-04_08-27-06_580382.png
END:VEVENT
END:VCALENDAR